BEGIN:VCALENDAR
VERSION:2.0
PRODID:-//Beckenham Lawn Tennis Club: Get 25% Off Membership In First Year - ECPv4.5.5//NONSGML v1.0//EN
CALSCALE:GREGORIAN
METHOD:PUBLISH
X-WR-CALNAME:Beckenham Lawn Tennis Club: Get 25% Off Membership In First Year
X-ORIGINAL-URL:https://www.beckenhamtennisclub.co.uk
X-WR-CALDESC:Events for Beckenham Lawn Tennis Club: Get 25% Off Membership In First Year
BEGIN:VEVENT
DTSTART;TZID=UTC:20160329T100000
DTEND;TZID=UTC:20160408T150000
DTSTAMP:20260419T131417
CREATED:20160317T105244Z
LAST-MODIFIED:20160317T105244Z
UID:3316-1459245600-1460127600@www.beckenhamtennisclub.co.uk
SUMMARY:Easter 2016 Junior Tennis Camps
DESCRIPTION:The coaches at Beckenham Lawn Tennis Club will be holding two four- and five-day junior camps\, over the Easter period. \nParents may also book individual days.  The camps are open to juniors of all ages and abilities. \nBook Now \n\nWeek 1 (Total cost for four days is £80)\nTuesday\, 29 March to Friday\, 1 April – 10 a.m.-3 p.m. each day\nWeek 2 (Total cost for four days is £100)\nMonday\, 4 April to Friday\, 8 April – 9 a.m.-12 noon each day\nThe fee for individual days is £25\n\nPlayers will be split into age/ability relevant groups. The camp will be primarily tennis focused\, with each participant working on new shots each day. There will be the chance for match play\, as well as lots of fun activities. \nParents are asked to provide a small lunch with drink\, as well as suitable clothing. \nTo book your place\, please fill in the attached form and return it to your coach or post to the mailing address. Cheques should be made payable to ‘Beckenham Cricket Club’. \nIf you would like to receive more information about the 2016 Easter camps or Beckenham LTC’s junior coaching\, please contact Matt Brolly on 07733 332 257 or brollymatt@yahoo.co.uk. \nMembership Enquiry\n
URL:https://www.beckenhamtennisclub.co.uk/event/easter-2016-junior-tennis-camps/
LOCATION:19 Foxgrove Road\, Beckenham\, BR35AS\, United Kingdom
CATEGORIES:Event,Junior Tennis,Tennis
END:VEVENT
END:VCALENDAR