BEGIN:VCALENDAR
VERSION:2.0
PRODID:-//Beckenham Lawn Tennis Club: Get 25% Off Membership In First Year - ECPv4.5.5//NONSGML v1.0//EN
CALSCALE:GREGORIAN
METHOD:PUBLISH
X-WR-CALNAME:Beckenham Lawn Tennis Club: Get 25% Off Membership In First Year
X-ORIGINAL-URL:http://www.beckenhamtennisclub.co.uk
X-WR-CALDESC:Events for Beckenham Lawn Tennis Club: Get 25% Off Membership In First Year
BEGIN:VEVENT
DTSTART;TZID=UTC:20170422T140000
DTEND;TZID=UTC:20170422T170000
DTSTAMP:20260425T210855
CREATED:20170411T074620Z
LAST-MODIFIED:20170411T074620Z
UID:3967-1492869600-1492880400@www.beckenhamtennisclub.co.uk
SUMMARY:Feat Of Clay Tournament 2017
DESCRIPTION:As Rafael Nadal and Novak Djokovic ply their trade at the picturesque Monte-Carlo Country Club\, get involved Beckenham LTC’s very own Feat of Clay Tournament. \nWhen: Saturday\, 22 April 2017\, from 2pm.\nWhere: Three synthetic clay courts\nFormat: Mixed Doubles\nPrice: £3 per player (limited places available) \nContact John Pedevilla by email to enter (deadline: Wednesday\, 19 April). \n
URL:http://www.beckenhamtennisclub.co.uk/event/feat-of-clay-tournament-2017/
LOCATION:19 Foxgrove Road\, Beckenham\, BR35AS\, United Kingdom
CATEGORIES:Event,Tennis,Tournament
ATTACH;FMTTYPE=image/jpeg:http://www.beckenhamtennisclub.co.uk/dev/wp-content/uploads/2014/12/10300312_1501353060154423_5577540956521192957_n.jpg
END:VEVENT
END:VCALENDAR