BEGIN:VCALENDAR
VERSION:2.0
PRODID:-//Beckenham Lawn Tennis Club: Get 25% Off Membership In First Year - ECPv4.5.5//NONSGML v1.0//EN
CALSCALE:GREGORIAN
METHOD:PUBLISH
X-WR-CALNAME:Beckenham Lawn Tennis Club: Get 25% Off Membership In First Year
X-ORIGINAL-URL:http://www.beckenhamtennisclub.co.uk
X-WR-CALDESC:Events for Beckenham Lawn Tennis Club: Get 25% Off Membership In First Year
BEGIN:VEVENT
DTSTART;TZID=UTC:20180310T140000
DTEND;TZID=UTC:20180310T160000
DTSTAMP:20260425T112203
CREATED:20180225T211210Z
LAST-MODIFIED:20180225T211210Z
UID:4394-1520690400-1520697600@www.beckenhamtennisclub.co.uk
SUMMARY:Tennis Open Day - Saturday 10 March
DESCRIPTION:Come and join us on Saturday 10 March\, 2 – 4pm\, for our annual Open Day. \nOpen to all Adults\, Juniors\, Families and all levels\, we will be running coach led sessions for you to come and try and your hand at tennis and visit our club.  25% discount on Adult membership. \n
URL:http://www.beckenhamtennisclub.co.uk/event/tennis-open-day-saturday-10-march/
CATEGORIES:Event,Junior Tennis,Open Day,Social,Tennis
END:VEVENT
END:VCALENDAR