BEGIN:VCALENDAR
VERSION:2.0
PRODID:-//Beckenham Lawn Tennis Club: Get 25% Off Membership In First Year - ECPv4.5.5//NONSGML v1.0//EN
CALSCALE:GREGORIAN
METHOD:PUBLISH
X-WR-CALNAME:Beckenham Lawn Tennis Club: Get 25% Off Membership In First Year
X-ORIGINAL-URL:http://www.beckenhamtennisclub.co.uk
X-WR-CALDESC:Events for Beckenham Lawn Tennis Club: Get 25% Off Membership In First Year
BEGIN:VEVENT
DTSTART;TZID=UTC:20151206T170000
DTEND;TZID=UTC:20151206T180000
DTSTAMP:20260422T091433
CREATED:20151002T105702Z
LAST-MODIFIED:20151002T105702Z
UID:2921-1449421200-1449424800@www.beckenhamtennisclub.co.uk
SUMMARY:2015 Charity Christmas Raffle
DESCRIPTION:Take part in our 2015 Christmas Raffle at Beckenham Cricket Club on Sunday\, 6 December from 5 p.m. \nMembers and local business are welcome to donate any prizes they can glean to add to the sumptuous pot of goodies. \nAll proceeds will go to St. Christopher’s Hospice. \nIf you think you can help by donating anything from a bottle to afternoon tea at the Ritz please get in touch with Lizzie Grumbach. \n
URL:http://www.beckenhamtennisclub.co.uk/event/2015-charity-christmas-raffle/
LOCATION:19 Foxgrove Road\, Beckenham\, BR35AS\, United Kingdom
CATEGORIES:Event,Social,Tennis
ATTACH;FMTTYPE=image/jpeg:http://www.beckenhamtennisclub.co.uk/dev/wp-content/uploads/2015/09/Christmas-Raffle-2015.jpg
END:VEVENT
END:VCALENDAR